BEGIN:VCALENDAR
VERSION:2.0
PRODID:-//ceres.rub.de//events//
CALSCALE:GREGORIAN
METHOD:PUBLISH
X-WR-TIMEZONE:UTC
BEGIN:VEVENT
SUMMARY:Reading Circle "Religion and Media"
DTSTART:20180605T120000Z
DTEND:20180605T140000Z
DTSTAMP:20260423T192123Z
UID:reading-circle-religion-and-media-june2018-5107@ceres.rub.de
CATEGORIES:
DESCRIPTION:This reading circle is no such circle in the classical sense\,
  but rather a study group or working group that brings together people tha
 t are interested in religion and media. It explores the mediation of relig
 ion in historical as well as contemporary perspectives\, discussing new th
 eories and methodologies. It is open for all CERES researchers\, visiting 
 fellows and staff members.\n
LOCATION:CERES Palais\, room "Bagdad" (2.10)
URL:https://khk.ceres.rub.de/en/events/reading-circle-religion-and-media-j
 une2018/
END:VEVENT
END:VCALENDAR
