BEGIN:VCALENDAR
VERSION:2.0
PRODID:-//ceres.rub.de//events//
CALSCALE:GREGORIAN
METHOD:PUBLISH
X-WR-TIMEZONE:UTC
BEGIN:VEVENT
SUMMARY:Guest Lecture: Axel Klein
DTSTART:20150622T161500Z
DTEND:20150622T174500Z
DTSTAMP:20260420T042613Z
UID:klein_1-1545@ceres.rub.de
CATEGORIES:
DESCRIPTION:"Religion and Politics in Contemporary Japan"
LOCATION:FNO 02/ 40-46
URL:https://khk.ceres.rub.de/en/events/klein_1/
END:VEVENT
END:VCALENDAR
