BEGIN:VCALENDAR
VERSION:2.0
PRODID:-//ceres.rub.de//events//
CALSCALE:GREGORIAN
METHOD:PUBLISH
X-WR-TIMEZONE:UTC
BEGIN:VEVENT
SUMMARY:KHK Monday Meeting Fellow Presentation: Juan Manuel Tebes
DTSTART:20180604T161500Z
DTEND:20180604T174500Z
DTSTAMP:20260421T193018Z
UID:khk-monday-meeting-fellow-presentation-20180604-4913@ceres.rub.de
CATEGORIES:
DESCRIPTION:
LOCATION:CERES Palais\, room "Ruhrpott" (4.13)
URL:https://khk.ceres.rub.de/en/events/khk-monday-meeting-fellow-presentat
 ion-20180604/
END:VEVENT
END:VCALENDAR
