BEGIN:VCALENDAR
VERSION:2.0
PRODID:-//ceres.rub.de//events//
CALSCALE:GREGORIAN
METHOD:PUBLISH
X-WR-TIMEZONE:UTC
BEGIN:VEVENT
SUMMARY:Twelve Years of Studying Religious Contacts at the KHK: Stepping B
 ack and Looking Ahead
DTSTART:20210616T070000Z
DTEND:20210618T180000Z
DTSTAMP:20260423T144242Z
UID:khk-final-conference-2021-7553@ceres.rub.de
CATEGORIES:
DESCRIPTION:After twelve fruitful years of exploring\, discussing\, and cl
 assifying religious contact phenomena\, the research program of the Käte 
 Hamburger Kolleg Dynamics in the History of Religions between Asia and Eur
 ope came to its natural end in March 2020.\n\nThe KHKʼs final conference 
 “Step Back and Look Beyond: Studying Religion after 2020” has two aims
 : First\, it provides a platform on which to reflect on the KHKʼs achieve
 ments\, the benefits of its contact-centered approach as well as related c
 hallenges. Second\, the conference brings together an international group 
 of renowned scholars who will take a step back from their current research
  and reflect upon the theoretical paradigms and methodological approaches 
 that enrich their own research. The conference thus gives a place to ponde
 r about the ways in which these approaches fit into the general study of r
 eligion and its rich history. Will these ways continue to shape the field 
 in the future? What other promising ways to do research on religion are on
  the horizon? How do such new approaches fit into the field as a whole?\n\
 nPresentations will either focus on one particular approach or paradigm (a
 nd its empirical usage) or reflect on the overall state of the field and i
 ts possible future.\n\nLatest version of the conference program here (as o
 f 25 May 2021)\n\nDownload the RUB-CERES-KHK Zoom background picture here.
  \n\nIf you would like to join the conference as part of the audience\, pl
 ease contact Maren Freudenberg.
LOCATION:Online Event
URL:https://khk.ceres.rub.de/en/events/khk-final-conference-2021/
END:VEVENT
END:VCALENDAR
