BEGIN:VCALENDAR
VERSION:2.0
PRODID:-//ceres.rub.de//events//
CALSCALE:GREGORIAN
METHOD:PUBLISH
X-WR-TIMEZONE:UTC
BEGIN:VEVENT
SUMMARY:Krishna between art and cult
DTSTART:20120512T090000Z
DTEND:20120512T150000Z
DTSTAMP:20260422T124450Z
UID:en_Krishna-305@ceres.rub.de
CATEGORIES:
DESCRIPTION:workshop program
URL:https://khk.ceres.rub.de/en/events/en_Krishna/
END:VEVENT
END:VCALENDAR
