BEGIN:VCALENDAR
VERSION:2.0
PRODID:-//ceres.rub.de//events//
CALSCALE:GREGORIAN
METHOD:PUBLISH
X-WR-TIMEZONE:UTC
BEGIN:VEVENT
SUMMARY:Final rehearsal for the on-site inspection of the KHK
DTSTART:20130521T120000Z
DTEND:20130521T140000Z
DTSTAMP:20260422T125659Z
UID:en-20130521-final-rehearsal-423@ceres.rub.de
CATEGORIES:
DESCRIPTION:
LOCATION:FNO 02/ 40-46
URL:https://khk.ceres.rub.de/en/events/en-20130521-final-rehearsal/
END:VEVENT
END:VCALENDAR
