BEGIN:VCALENDAR
VERSION:2.0
PRODID:-//ceres.rub.de//events//
CALSCALE:GREGORIAN
METHOD:PUBLISH
X-WR-TIMEZONE:UTC
BEGIN:VEVENT
SUMMARY:Entstehung und Funktion früher religiöser Schrift- und Textkanon
 es
DTSTART;VALUE=DATE:20091104
DTEND;VALUE=DATE:20091106
DTSTAMP:20260422T091454Z
UID:Textkanones_en-136@ceres.rub.de
CATEGORIES:
DESCRIPTION:
URL:https://khk.ceres.rub.de/en/events/Textkanones_en/
END:VEVENT
END:VCALENDAR
