BEGIN:VCALENDAR
VERSION:2.0
PRODID:-//ceres.rub.de//events//
CALSCALE:GREGORIAN
METHOD:PUBLISH
X-WR-TIMEZONE:UTC
BEGIN:VEVENT
SUMMARY:Transversal Group of Focus Group Transfer and Resistance
DTSTART:20111024T100000Z
DTEND:20111024T120000Z
DTSTAMP:20260423T054604Z
UID:TG_FG_TR_241011_eng-222@ceres.rub.de
CATEGORIES:
DESCRIPTION:
URL:https://khk.ceres.rub.de/en/events/TG_FG_TR_241011_eng/
END:VEVENT
END:VCALENDAR
