BEGIN:VCALENDAR
VERSION:2.0
PRODID:-//ceres.rub.de//events//
CALSCALE:GREGORIAN
METHOD:PUBLISH
X-WR-TIMEZONE:UTC
BEGIN:VEVENT
SUMMARY:Study Group: Translation
DTSTART:20110110T151500Z
DTEND:20110110T164500Z
DTSTAMP:20260425T193921Z
UID:SG_transcoding100111-41@ceres.rub.de
CATEGORIES:
DESCRIPTION:Location: SH 1/187
URL:https://khk.ceres.rub.de/en/events/SG_transcoding100111/
END:VEVENT
END:VCALENDAR
