BEGIN:VCALENDAR
VERSION:2.0
PRODID:-//ceres.rub.de//events//
CALSCALE:GREGORIAN
METHOD:PUBLISH
X-WR-TIMEZONE:UTC
BEGIN:VEVENT
SUMMARY:Research Field 1
DTSTART:20121112T151500Z
DTEND:20121112T184500Z
DTSTAMP:20260421T122855Z
UID:RF_1_121112_en-324@ceres.rub.de
CATEGORIES:
DESCRIPTION:abstract Ms Toral-Niehoff\nabstract Mr Durkin-Meisterernst\nab
 stract Mr Rist\nLecture: Dr. Isabel Toral-Niehoff (Aga Khan University Ins
 titute for the Study of Muslim Civilizations\, London)/Prof. Dr. Desmond D
 urkin-Meisterernst (FU Berlin)
URL:https://khk.ceres.rub.de/en/events/RF_1_121112_en/
END:VEVENT
END:VCALENDAR
