BEGIN:VCALENDAR
VERSION:2.0
PRODID:-//ceres.rub.de//events//
CALSCALE:GREGORIAN
METHOD:PUBLISH
X-WR-TIMEZONE:UTC
BEGIN:VEVENT
SUMMARY:Plenary Session: Fellow Presentation
DTSTART:20121008T161500Z
DTEND:20121008T174500Z
DTSTAMP:20260421T023152Z
UID:PS_081012_en-315@ceres.rub.de
CATEGORIES:
DESCRIPTION:Alexander Henn / Sung-deuk Oak\nDr. Oak's talk introduces the 
 main ideas and issues of his forthcoming book\,"The Making of the Korean C
 hristianity: Protestant Encounters with Korean Religions\, 1876-1915."\nPr
 of. Dr. Alexander Henn: "Syncretism Reconsidered: Hindu-Catholic Encounter
 s in Goa / India."\nSyncretistic expressions and practices between Hindus 
 and Catholics are widely spread in Goa. I will discuss the phenomena in li
 ght of the reappraisal of the concept of 'syncretism' in recent anthropolo
 gical scholarship. How do the ethnographic data relate to  modern paradig
 ms of the politics of religious synthesis? Are they still connected to the
  initiation of the Hindu-Catholic encounter in early-modernity? How adequa
 te can a modern concept of religion deal with the subject?
URL:https://khk.ceres.rub.de/en/events/PS_081012_en/
END:VEVENT
END:VCALENDAR
