BEGIN:VCALENDAR
VERSION:2.0
PRODID:-//ceres.rub.de//events//
CALSCALE:GREGORIAN
METHOD:PUBLISH
X-WR-TIMEZONE:UTC
BEGIN:VEVENT
SUMMARY:Medien in der Ritualforschung
DTSTART;VALUE=DATE:20100321
DTEND;VALUE=DATE:20100328
DTSTAMP:20260420T055624Z
UID:Medien_en-145@ceres.rub.de
CATEGORIES:
DESCRIPTION:Die religions- und kulturwissenschaftliche Diskussion widmet  
 schon seit längerem dem Bereich der Ästhetik besondere Aufmerksamkeit. I
 n der  Ritualforschung werden einerseits die verschiedenen Wort- Bild- und
  Klangmedien\,  die in rituellen Handlungen zur Aufführung kommen\, auf i
 hre spezifischen  Bedeutungsfunktionen untersucht. Andererseits dienen Abb
 ildungen oder  Beschreibungen häufig als wichtiges Quellenmaterial zur Re
 konstruktion ritueller  Praxis ebenso wie zur Bewertung von Rezeptions- un
 d Übertragungsvorgängen.  Darüber hinaus wird gerade in der Ritualforsc
 hung\, namentlich in der Ethnologie\,  der Einsatz von Aufzeichnungs- und 
 Reproduktionsmedien nicht zuletzt deshalb  methodologisch kontrovers disku
 tiert\, da ihnen unterstellt wird\, Phänomene  religiös-ästhetischer Er
 fahrung zu nivellieren. Auch über den engeren Kontext  der Ritualforschun
 g hinaus hat die grundsätzliche Bewertung der medialen  Eigendynamik sowo
 hl innerhalb einer Kulturgemeinschaft als auch im  interkulturellen und in
 terreligiösen Transfer maßgebliche Bedeutung gewonnen.  Umstritten und d
 aher von primärem Interesse ist die heuristische Gewichtung von  einersei
 ts ästhetischer (akustischer\, visueller und performativer) Gestaltung  u
 nd den traditionell zumeist höher bewerteten Textkorpora andererseits. In
  der  springschool sollen methodische Ansätze unterschiedlicher Disziplin
 en\,  namentlich der Religions-\, Geschichts- und Kunstwissenschaften\, vo
 rgestellt\,  verglichen und mögliche Anwendungen auch in anderen Forschun
 gskontexten  diskutiert werden. \nDie diesjährige springschool wird die 
 Diskussion ihrer  Vorgängerin „Geschichte der Ritualforschung“ aufgre
 ifen und fortsetzen. Neben  den von Dozenten geleiteten Seminaren sind Kur
 zreferate vorgesehen\, in denen die  Teilnehmer eigene Arbeitsprojekte vor
 stellen können. Thematische Schwerpunkte  sind die Geschichte der Medienw
 issenschaft und der Ästhetik im Kontext der  Ritualwissenschaft sowie die
  Erforschung ritueller Performanz und  ritualästhetischer Transfers\; auc
 h grundsätzliche methodologische Fragen sollen  dabei zur Sprache kommen.
  Wie im Vorjahr werden wissenschaftsgeschichtliche  Reflexionen mit der Ve
 rmittlung und Analyse aktueller Forschungsergebnisse  verknüpft. Es ist g
 eplant\, die Beiträge dieser und der vorangegangenen  springschool in ein
 em Sammelband 2010 zu publizieren.\nDie Veranstaltung richtet sich an Grad
 uierte und Studierende  der Masterphase. Die Kosten für Übernachtung und
  Vollpension betragen € 480\,-\;  Kursgebühren werden nicht erhoben.
URL:https://khk.ceres.rub.de/en/events/Medien_en/
END:VEVENT
END:VCALENDAR
