BEGIN:VCALENDAR
VERSION:2.0
PRODID:-//ceres.rub.de//events//
CALSCALE:GREGORIAN
METHOD:PUBLISH
X-WR-TIMEZONE:UTC
BEGIN:VEVENT
SUMMARY:Refreshment
DTSTART:20120416T180000Z
DTEND:20120416T210000Z
DTSTAMP:20260420T044950Z
UID:refreshment_160412_de-249@ceres.rub.de
CATEGORIES:
DESCRIPTION:
URL:https://khk.ceres.rub.de/de/veranstaltungen/refreshment_160412_de/
END:VEVENT
END:VCALENDAR
