BEGIN:VCALENDAR
VERSION:2.0
PRODID:-//ceres.rub.de//events//
CALSCALE:GREGORIAN
METHOD:PUBLISH
X-WR-TIMEZONE:UTC
BEGIN:VEVENT
SUMMARY:Monday Meeting: Focus Group Ritual II
DTSTART:20160530T141500Z
DTEND:20160530T154500Z
DTSTAMP:20260422T124744Z
UID:monday-meeting-ritual-2-sose-16-de-2452@ceres.rub.de
CATEGORIES:
DESCRIPTION:
LOCATION:CERES-Palais\, Raum "Ruhrpott" (4.13)
URL:https://khk.ceres.rub.de/de/veranstaltungen/monday-meeting-ritual-2-so
 se-16-de/
END:VEVENT
END:VCALENDAR
