BEGIN:VCALENDAR
VERSION:2.0
PRODID:-//ceres.rub.de//events//
CALSCALE:GREGORIAN
METHOD:PUBLISH
X-WR-TIMEZONE:UTC
BEGIN:VEVENT
SUMMARY:Themenfeld 1
DTSTART:20121112T151500Z
DTEND:20121112T184500Z
DTSTAMP:20260421T140844Z
UID:TF_1_121112_de-324@ceres.rub.de
CATEGORIES:
DESCRIPTION:abstract Ms Toral-Niehoff\nabstract Mr Durkin-Meisterernst\nab
 stract Mr Rist\nVortrag: Dr. Isabel Toral-Niehoff (Aga Khan University Ins
 titute for the Study of Muslim Civilizations\, London)/Prof. Dr. Desmond D
 urkin-Meisterernst (FU Berlin)
URL:https://khk.ceres.rub.de/de/veranstaltungen/TF_1_121112_de/
END:VEVENT
END:VCALENDAR
