BEGIN:VCALENDAR
VERSION:2.0
PRODID:-//ceres.rub.de//events//
CALSCALE:GREGORIAN
METHOD:PUBLISH
X-WR-TIMEZONE:UTC
BEGIN:VEVENT
SUMMARY:Themenfeld 1
DTSTART:20110704T141500Z
DTEND:20110704T154500Z
DTSTAMP:20260421T210727Z
UID:TF_1_040711-105@ceres.rub.de
CATEGORIES:
DESCRIPTION:Presentation by\nReinhard von Bendemann “Insularity: About t
 he  Significance of the Islands of the Mediterranean for Conceptions of  E
 xpansion in Early Christianity”\nAndreas Bendlin "How (not) to say 'Roma
 n religion' in Latin: Semantic fields and expansion as a process of demarc
 ation"
URL:https://khk.ceres.rub.de/de/veranstaltungen/TF_1_040711/
END:VEVENT
END:VCALENDAR
