BEGIN:VCALENDAR
VERSION:2.0
PRODID:-//ceres.rub.de//events//
CALSCALE:GREGORIAN
METHOD:PUBLISH
X-WR-TIMEZONE:UTC
BEGIN:VEVENT
SUMMARY:Die drei ungleichen Schwestern "Christentum\, Judentum und Islam" 
 im Mit- und Gegeneinander
DTSTART:20090513T160000Z
DTEND:20090513T180000Z
DTSTAMP:20260423T120518Z
UID:Schwestern130511_de-127@ceres.rub.de
CATEGORIES:
DESCRIPTION:
URL:https://khk.ceres.rub.de/de/veranstaltungen/Schwestern130511_de/
END:VEVENT
END:VCALENDAR
