BEGIN:VCALENDAR
VERSION:2.0
PRODID:-//ceres.rub.de//events//
CALSCALE:GREGORIAN
METHOD:PUBLISH
X-WR-TIMEZONE:UTC
BEGIN:VEVENT
SUMMARY:Reinheit als kulturelle und religiöse Leitdifferenz II
DTSTART;VALUE=DATE:20090109
DTEND;VALUE=DATE:20090110
DTSTAMP:20260420T093040Z
UID:Reinheit09012009_de-120@ceres.rub.de
CATEGORIES:
DESCRIPTION:
URL:https://khk.ceres.rub.de/de/veranstaltungen/Reinheit09012009_de/
END:VEVENT
END:VCALENDAR
