BEGIN:VCALENDAR
VERSION:2.0
PRODID:-//ceres.rub.de//events//
CALSCALE:GREGORIAN
METHOD:PUBLISH
X-WR-TIMEZONE:UTC
BEGIN:VEVENT
SUMMARY:Arbeitsgruppe: Übersetzung
DTSTART:20110110T151500Z
DTEND:20110110T164500Z
DTSTAMP:20260425T180537Z
UID:AG_Transcoding_100111-41@ceres.rub.de
CATEGORIES:
DESCRIPTION:Location: SH 1/187
URL:https://khk.ceres.rub.de/de/veranstaltungen/AG_Transcoding_100111/
END:VEVENT
END:VCALENDAR
